BEGIN:VCALENDAR
VERSION:2.0
PRODID:-//American Legion Post 202 - ECPv6.15.20//NONSGML v1.0//EN
CALSCALE:GREGORIAN
METHOD:PUBLISH
X-WR-CALNAME:American Legion Post 202
X-ORIGINAL-URL:https://post202.org
X-WR-CALDESC:Events for American Legion Post 202
REFRESH-INTERVAL;VALUE=DURATION:PT1H
X-Robots-Tag:noindex
X-PUBLISHED-TTL:PT1H
BEGIN:VTIMEZONE
TZID:UTC
BEGIN:STANDARD
TZOFFSETFROM:+0000
TZOFFSETTO:+0000
TZNAME:UTC
DTSTART:20240101T000000
END:STANDARD
END:VTIMEZONE
BEGIN:VEVENT
DTSTART;TZID=UTC:20250828T190000
DTEND;TZID=UTC:20250828T200000
DTSTAMP:20260421T042400
CREATED:20250818T161035Z
LAST-MODIFIED:20250818T161035Z
UID:2365-1756407600-1756411200@post202.org
SUMMARY:American Legion Post 202 Riders Meeting
DESCRIPTION:
URL:https://post202.org/event/american-legion-post-202-riders-meeting/
END:VEVENT
BEGIN:VEVENT
DTSTART;TZID=UTC:20250501T080000
DTEND;TZID=UTC:20250526T170000
DTSTAMP:20260421T042400
CREATED:20250501T145518Z
LAST-MODIFIED:20250501T150646Z
UID:2346-1746086400-1748278800@post202.org
SUMMARY:Seeking Purple Heart Veterans
DESCRIPTION:If you are interested email r.isgoingplaces@gmail.com or call Ruth at 717-425-4467
URL:https://post202.org/event/seeking-purple-heart-veterans/
END:VEVENT
END:VCALENDAR