BEGIN:VCALENDAR
VERSION:2.0
PRODID:-//American Legion Post 202 - ECPv6.15.20//NONSGML v1.0//EN
CALSCALE:GREGORIAN
METHOD:PUBLISH
X-WR-CALNAME:American Legion Post 202
X-ORIGINAL-URL:https://post202.org
X-WR-CALDESC:Events for American Legion Post 202
REFRESH-INTERVAL;VALUE=DURATION:PT1H
X-Robots-Tag:noindex
X-PUBLISHED-TTL:PT1H
BEGIN:VTIMEZONE
TZID:UTC
BEGIN:STANDARD
TZOFFSETFROM:+0000
TZOFFSETTO:+0000
TZNAME:UTC
DTSTART:20250101T000000
END:STANDARD
END:VTIMEZONE
BEGIN:VEVENT
DTSTART;TZID=UTC:20260505T183000
DTEND;TZID=UTC:20260505T200000
DTSTAMP:20260421T011919
CREATED:20250506T131622Z
LAST-MODIFIED:20260419T232156Z
UID:2355-1778005800-1778011200@post202.org
SUMMARY:Home Association and Post Meeting
DESCRIPTION:Home Association meeting will begin at 1830hrs (6:30pm) followed by the Post Meeting at 1900hrs (7:00pm).
URL:https://post202.org/event/home-association-and-post-meeting/
LOCATION:American Legion Post 202 Gettysburg\, 528 E Middle Street\, Gettysburg\, PA\, 17325\, United States
END:VEVENT
END:VCALENDAR